Workbook

Sheet 入力シート
C2: ㊙ | D2: 賃金実態調査票
A4: ※ | C4: の欄をご入力ください。
A6: １．企業の概要について
A8: （１） あなたの企業の主たる業種は何ですか。（主たる業種１つを右下にご入力ください）
A9: 〔建設・鉱業〕
A10: １．一般土木建築工事 | D10: ２．土木工事 | F10: ３．建築工事
A11: ４．左官工事 | D11: ５．塗装工事 | F11: ６．電気工事
A12: ７．その他の設備工事 | D12: ８．採石鉱業 | F12: ９．その他の建設・鉱業
A13: 〔製 造 業〕
A14: 10．食 料 品 | C14: 11．衣服・繊維製品 | F14: 12．木材・木製品
A15: 13．家具・装備品 | C15: 14．出版・印刷 | F15: 15．窯業・土石製品
A16: 16．一般機械器具 | C16: 17．その他の製造業
A17: 〔卸 売 業〕
A18: 18．飲食料品 | C18: 19．繊維・衣服・身のまわり品 | F18: 20．機械・建築材料
A19: 21．家具・什器 | C19: 22．その他の卸売業
A20: 〔小 売 業〕
A21: 23．飲食料品 | C21: 24．衣服・身のまわり品 | F21: 25．耐久消費財
A22: 26．飲 食 店 | C22: 27．その他の小売業
A23: 〔サービス業〕
A24: 28．旅 館 | C24: 29．クリーニング | F24: 30．理容・美容
A25: 31．自動車整備 | C25: 32．団体・組合 | F25: 33．その他のサービス業
A26: 〔運 輸 業〕
A27: 34．道路旅客・貨物運輸 | D27: 35．その他の運輸業
G28: （１）
A30: ※差し支えなければ事業所名を右欄にご記入ください。
A32: （２） あなたの企業の常時従業員（パート・臨時・家族・役員を除く）は何人ですか。
A33: （令和8年1月31日現在）
B34: 20才未満 | C34: 20才～ | D34: 30才～ | E34: 40才～ | F34: 50才～ | G34: 60才以上
C35: 30才未満 | D35: 40才未満 | E35: 50才未満 | F35: 60才未満
A36: 男 子
A37: 女 子
A39: （３） あなたの企業ではパートを何人採用されていますか。
A40: また、採用されている場合の１時間当たりの金額はいくらですか。
A41: パート採用人数 | D41: 人
A42: 男子パート時給額 | D42: 円 | E42: 女子パート時給額 | H42: 円
A45: ２．賃金について
A47: （１） 昇給についてお答えください。
A48: Ａ 昨年（令和7年）の昇給時期は何月でしたか。 | I48: 月
A50: 昨年（令和7年）の昇給額は前年（令和6年）に対して | H50: ↓据置・増加・減少を選択
A51: どのぐらいの割合でしたか。 | J51: 据置
...

Sheet 集計（入力不可）
B1: 常時従業員数(男子) | H1: 常時従業員数(女子) | N1: パート | O1: パート時給 | Q1: 平成31年・令和元年度 | T1: 令和2年度 | W1: 賃金 | X1: 昨年賞与支給 | AA1: 夏期賞与平均金額 | AC1: 冬期賞与平均金額 | AE1: 賞与 | AF1: 令和2年新卒者 | AH1: 初任給金額男子 | AM1: 初任給金額女子
A2: 業種 | B2: 20歳未満 | C2: 20代 | D2: 30代 | E2: 40代 | F2: 50代 | G2: 60歳以上 | H2: 20歳未満 | I2: 20代 | J2: 30代 | K2: 40代 | L2: 50代 | M2: 60歳以上 | N2: 人数 | O2: 男子 | P2: 女子 | Q2: 昇給時期 | R2: 昇給 | S2: 昇給割合 | T2: 昇給時期 | U2: 昇給 | V2: 昇給割合 | W2: 昇給目安 | X2: 夏期 | Y2: 冬期 | Z2: 他 | AA2: 男子 | AB2: 女子 | AC2: 男子 | AD2: 女子 | AE2: 支給目安 | AF2: 男子 | AG2: 女子 | AH2: 大卒 | AI2: 専門卒 | AJ2: 短大卒 | AK2: 高卒 | AL2: 中卒 | AM2: 大卒 | AN2: 専門卒 | AO2: 短大卒 | AP2: 高卒 | AQ2: 中卒
A3: =入力シート!H28 -> 0 | B3: =入力シート!B36 -> 0 | C3: =入力シート!C36 -> 0 | D3: =入力シート!D36 -> 0 | E3: =入力シート!E36 -> 0 | F3: =入力シート!F36 -> 0 | G3: =入力シート!G36 -> 0 | H3: =入力シート!B37 -> 0 | I3: =入力シート!C37 -> 0 | J3: =入力シート!D37 -> 0 | K3: =入力シート!E37 -> 0 | L3: =入力シート!F37 -> 0 | M3: =入力シート!G37 -> 0 | N3: =入力シート!C41 -> 0 | O3: =入力シート!C42 -> 0 | P3: =入力シート!G42 -> 0 | Q3: =入力シート!H48 -> 0 | R3: =入力シート!H51 -> 0 | S3: =IF(R3="減少",-入力シート!H52,+入力シート!H52) -> 0 | T3: =入力シート!H54 -> 0 | U3: =入力シート!H57 -> 0 | V3: =IF(U3="減少",-入力シート!H58,+入力シート!H58) -> 0 | W3: =入力シート!H62 -> 0 | X3: =入力シート!H69 -> 0 | Y3: =入力シート!H71 -> 0 | Z3: =入力シート!H73 -> 0 | AA3: =入力シート!G77 -> 0 | AB3: =入力シート!G79 -> 0 | AC3: =入力シート!G83 -> 0 | AD3: =入力シート!G85 -> 0 | AE3: =入力シート!H89 -> 0 | AF3: =入力シート!B95 -> 0 | AG3: =入力シート!E95 -> 0 | AH3: =入力シート!D98 -> 0 | AI3: =入力シート!D99 -> 0 | AJ3: =入力シート!D100 -> 0 | AK3: =入力シート!D101 -> 0 | AL3: =入力シート!D102 -> 0 | AM3: =入力シート!H98 -> 0 | AN3: =入力シート!H99 -> 0 | AO3: =入力シート!H100 -> 0 | AP3: =入力シート!H101 -> 0 | AQ3: =入力シート!H102 -> 0
